BEGIN:VCALENDAR
VERSION:2.0
PRODID:-//Library Market//iCal Export//EN
BEGIN:VEVENT
SUMMARY:Present Like a Pro: Public Speaking for the Workplace
UID:17254
DTSTAMP:20260420T162000Z
DTSTART:20260513T223000Z
DTEND:20260513T233000Z
LOCATION:1130 E Main St, Shrub Oak, NY 10588, United States
ROOM: Community Room
DESCRIPTION:Strong communication skills can set you apart at any stage of 
 your career. This interactive workshop is designed for entry level or mid-
 career professionals who want to improve their public speaking and present
 ation skills in the workplace.Whether you&#039;re preparing for meetings, 
 presentations, or professional events, this workshop will help you communi
 cate with clarity and confidence.You’ll learn how to:Project confidence 
 through voice, posture, and deliveryPractice and rehearse presentations mo
 re effectivelyStructure presentations for clarity and impactOrganize ideas
  so your message is easy to followThe session will also include tips for o
 rganizing your ideas, managing nerves, and delivering messages that resona
 te with colleagues, clients, and leadership.Perfect for professionals look
 ing to strengthen their communication skills and make a stronger impressio
 n in the workplace.
URL:https://yorktown.librarycalendar.com/event/present-pro-public-speaking
 -workplace-17254
END:VEVENT
END:VCALENDAR
