BEGIN:VCALENDAR
VERSION:2.0
PRODID:-//Library Market//iCal Export//EN
BEGIN:VEVENT
SUMMARY:Demystifying Medicare
UID:15877
DTSTAMP:20260421T052800Z
DTSTART:20260530T140000Z
DTEND:20260530T173000Z
LOCATION:1130 E Main St, Shrub Oak, NY 10588, United States
ROOM: Community Room
DESCRIPTION:Demystifying Medicare is perfect for anyone trying to navigate
  our complicatedhealthcare system for older adults. It’s for people who 
 already have Medicare, as well asthose soon to be 65, planning their retir
 ement, or assisting relatives and friends withpaperwork and medical decisi
 ons.In this engaging interactive session, you will learn about the various
  parts of Medicareand the costs associated with medical and drug insurance
  provided by the governmentand private companies. Topics include:Original 
 MedicareMedicare Advantage PlansPrescription drug plans (Part D)Medigaps (
 supplemental plans)Various cost-saving programs (MSPs,Extra Help, EPIC, et
 c.) Demystifying Medicare is part of the ongoing work of the Westchester 
 Library System toprovide authoritative, actionable information that suppor
 ts seniors in being connectedand well-informed.
URL:https://yorktown.librarycalendar.com/event/demystifying-medicare-15877
END:VEVENT
END:VCALENDAR
