BEGIN:VCALENDAR
VERSION:2.0
PRODID:-//Library Market//iCal Export//EN
BEGIN:VEVENT
SUMMARY:PAWS to Read with MacKenzie
UID:15203
DTSTAMP:20260423T071400Z
DTSTART:20260812T220000Z
DTEND:20260812T230000Z
LOCATION:1130 E Main St, Shrub Oak, NY 10588, United States
ROOM: Storytime Room
DESCRIPTION:Children in grades K-5 can practice their &quot;read aloud&quo
 t; skills by reading to MacKenzie, the friendly Therapy Dog.  Registratio
 n for a 15 minute session is required.  Registration for this program wil
 l open on July 22.Register here.Please note this new registration method.
  Available slots will have a blue box with a plus sign.  Click the box n
 ext to the time slot to register.Registration opens 3 weeks prior to the p
 rogram.  Time slots will appear unavailable (grayed out) if you click on 
 the link before registration is open (note the registration opening date i
 n the program description above).  If the registration opening date has p
 assed, then the grayed out time slots have been filled.  Please call the 
 Children&#039;s Reference Desk if you have trouble registering or would li
 ke to be placed on the waitlist for a particular day. 914-245-5262 (optio
 n 3)
URL:https://yorktown.librarycalendar.com/event/paws-read-mackenzie-15203
END:VEVENT
END:VCALENDAR
