BEGIN:VCALENDAR
VERSION:2.0
PRODID:-//Library Market//iCal Export//EN
BEGIN:VEVENT
SUMMARY:PAWS to Read with MacKenzie
UID:15201
DTSTAMP:20260420T162000Z
DTSTART:20260610T220000Z
DTEND:20260610T230000Z
LOCATION:1130 E Main St, Shrub Oak, NY 10588, United States
ROOM: Storytime Room
DESCRIPTION:Children in grades K-5 can practice their &quot;read aloud&quo
 t; skills by reading to MacKenzie, the friendly Therapy Dog.Â  Registratio
 n for a 15 minute session is required.Â  Registration for this program wil
 l open on May 20.Register here.Please noteÂ this new registration method.Â
  Available slots will have a blue box with a plus sign.Â  Click the box ne
 xt to the time slot to register.Registration opens 3 weeks prior to the pr
 ogram.Â  Time slots will appear unavailable (grayed out) if you click on t
 he link before registration is open (note the registration opening date in
  the program description above).Â  If the registration opening date has pa
 ssed, then the grayed out time slots have been filled.Â  Please call the C
 hildren&#039;s Reference Desk if you have trouble registering or would lik
 e to be placed on the waitlist for a particular day.Â 914-245-5262 (option
  3)
URL:https://yorktown.librarycalendar.com/event/paws-read-mackenzie-15201
END:VEVENT
END:VCALENDAR
