BEGIN:VCALENDAR
VERSION:2.0
PRODID:-//Library Market//iCal Export//EN
BEGIN:VEVENT
SUMMARY:Bouncing Babies
UID:14132
DTSTAMP:20260419T151500Z
DTSTART:20260812T143000Z
DTEND:20260812T150000Z
LOCATION:1130 E Main St, Shrub Oak, NY 10588, United States
ROOM: Storytime Room
DESCRIPTION:For ages birth to 18 months and caregiver.Reading and singing 
 to your baby from birth fosters language development, provides a phonologi
 cal foundation for later reading and writing and stimulates the growth of 
 baby’s brain! Join Ms. Olivia for stories, songs and bouncing and tickle
  rhymes. After storytime, we’ll have time to play with toys and socializ
 e with our new friends.
URL:https://yorktown.librarycalendar.com/event/bouncing-babies-14132
END:VEVENT
END:VCALENDAR
