BEGIN:VCALENDAR
VERSION:2.0
PRODID:-//Library Market//iCal Export//EN
BEGIN:VEVENT
SUMMARY:Summer Play Group!
UID:13780
DTSTAMP:20260420T091900Z
DTSTART:20260710T143000Z
DTEND:20260710T153000Z
LOCATION:1130 E Main St, Shrub Oak, NY 10588, United States
ROOM: Storytime Room
DESCRIPTION:This program is for ages 18 months - 5 years. Join us for Summ
 er Play Group. This a program promotes social skills and early language de
 velopment through creative play.  No registration required - this is a dr
 op-in program.
URL:https://yorktown.librarycalendar.com/event/read-sing-play-13780
END:VEVENT
END:VCALENDAR
